BEGIN:VCALENDAR
VERSION:2.0
PRODID:-//sebbo.net//ical-generator//EN
NAME:Luuppi Events
X-WR-CALNAME:Luuppi Events
TIMEZONE-ID:Europe/Helsinki
X-WR-TIMEZONE:Europe/Helsinki
BEGIN:VEVENT
UID:92dcea6b-fa37-4011-a2f6-6177365c2496
SEQUENCE:0
DTSTAMP:20260422T140426
DTSTART:20260427T093000
DTEND:20260427T170000
SUMMARY:VIP-Pesis
LOCATION:Kaupin pesäpallokentät\, Tampere
DESCRIPTION:VIP-pesis saapuu jälleen kerran 27.4 Kauppiin!!! Luuppi edust
 aa itseään tänäkin vuonna höntsäsarjassa\, joten luvassa on rentoa p
 elaamista hyvässä seurassa. Kutsu siis kaverisi mukaan kevään vauhdikk
 aimpaan urheilutapahtumaan! Luupin joukkueessa on paikkoja on 9-12 nopeimm
 alle ilmoittautuvalle\, joten toimi nopeasti\, jos haluat paikkasi joukkue
 essa. https://www.instagram.com/vippesis  Tapahtuman järjestäjät tuovat
  paikalle mailoja\, palloja ja räpylöitä\, joten omia varusteita ei tar
 vitse olla. Paikalla on myös grillitarjoilu ja muuta vappuista aktiviteet
 tia. Turnauksen tapahtumia voit seurata Instagramissa  https://www.instagr
 am.com/vippesis . https://t.me/rkallio  Kysymyksiä? Eemil Tamminen  https
 ://t.me/EemilTamminen   mailto:liikunta@luuppi.fi  https://t.me/rkallio 
URL;VALUE=URI:https://luuppi.fi/fi/events/vip-pesis-2026
END:VEVENT
BEGIN:VEVENT
UID:5fd5d98e-8681-4c54-bbc3-1a78af5d956c
SEQUENCE:0
DTSTAMP:20260422T140426
DTSTART:20260330T160000
DTEND:20260330T160000
SUMMARY:VIP-Pesis aukeaa
LOCATION:Kaupin pesäpallokentät\, Tampere
DESCRIPTION:VIP-pesis saapuu jälleen kerran 27.4 Kauppiin!!! Luuppi edust
 aa itseään tänäkin vuonna höntsäsarjassa\, joten luvassa on rentoa p
 elaamista hyvässä seurassa. Kutsu siis kaverisi mukaan kevään vauhdikk
 aimpaan urheilutapahtumaan! Luupin joukkueessa on paikkoja on 9-12 nopeimm
 alle ilmoittautuvalle\, joten toimi nopeasti\, jos haluat paikkasi joukkue
 essa. https://www.instagram.com/vippesis  Tapahtuman järjestäjät tuovat
  paikalle mailoja\, palloja ja räpylöitä\, joten omia varusteita ei tar
 vitse olla. Paikalla on myös grillitarjoilu ja muuta vappuista aktiviteet
 tia. Turnauksen tapahtumia voit seurata Instagramissa  https://www.instagr
 am.com/vippesis . https://t.me/rkallio  Kysymyksiä? Eemil Tamminen  https
 ://t.me/EemilTamminen   mailto:liikunta@luuppi.fi  https://t.me/rkallio 
URL;VALUE=URI:https://luuppi.fi/fi/events/vip-pesis-2026
END:VEVENT
END:VCALENDAR