BEGIN:VCALENDAR
VERSION:2.0
PRODID:-//sebbo.net//ical-generator//EN
NAME:Luuppi Events
X-WR-CALNAME:Luuppi Events
TIMEZONE-ID:Europe/Helsinki
X-WR-TIMEZONE:Europe/Helsinki
BEGIN:VEVENT
UID:81ec1103-50f1-40d6-aaee-df46940d818b
SEQUENCE:0
DTSTAMP:20260421T210155
DTSTART:20260422T143000
DTEND:20260422T153000
SUMMARY:MTT & TIE -kahvit
LOCATION:Tietotalo TC428
DESCRIPTION:MTT-TIE –kahvit on matematiikan ja tilastollisen data-analyy
 sin sekä tietojenkäsittelytieteiden tutkinto-ohjelmien opiskelijoiden\, 
 opetushenkilöstön ja opintohallinnon henkilökunnan kohtaamispaikka\, jo
 ssa keskustellaan ajankohtaisista asioista.  Kahvien aiheena: Ajankohtaise
 t asiat Koulutuskyselyn tulokset
URL;VALUE=URI:https://luuppi.fi/fi/events/mtt-and-tie-coffees
END:VEVENT
END:VCALENDAR