BEGIN:VCALENDAR
VERSION:2.0
PRODID:-//sebbo.net//ical-generator//EN
NAME:Luuppi Events
X-WR-CALNAME:Luuppi Events
TIMEZONE-ID:Europe/Helsinki
X-WR-TIMEZONE:Europe/Helsinki
BEGIN:VEVENT
UID:bd7652f2-9787-4df1-8315-2fcdc94adaab
SEQUENCE:0
DTSTAMP:20260426T065128
DTSTART:20250222T000000
DTEND:20250222T160000
SUMMARY:Luuppikyykän jatkosauna
LOCATION:Pii-klubi
DESCRIPTION:Perinteisesti tänäkin vuonna järjestetään Luuppikyykän j
 atkosauna! Saunomaan pääsee klo 16 alkaen. Luuppikyykän finaali tullaan
  myös striimaamaan (jos teknologiajumalat sen sallii) ja lopulta voittaja
 t palkitaan Pii-Klubilla! Saunavuorot: 16:00-18:00 uimapuvullinen sekavuor
 o 18:00-19:30 naisten vuoro 19:30-21:00 miesten vuoro 21:00-23:00 uimapuvu
 llinen sekavuoro  Tapahtumassa noudatetaan Luupin yhdenvertaisuussuunnitel
 maa ja turvallisemman tilan periaatteita\, jotka löytyvät  https://luupp
 i.fi/fi/organization/documents . Jos tulee kysyttävää\, ota yhteyttä t
 apahtuman pääjärjestäjään: Iida Jokela tg: @iidaax tapahtuma@luuppi.
 fi
URL;VALUE=URI:https://luuppi.fi/fi/events/luuppikyykka-aftersauna-1
END:VEVENT
END:VCALENDAR