BEGIN:VCALENDAR
VERSION:2.0
PRODID:-//sebbo.net//ical-generator//EN
NAME:Luuppi Events
X-WR-CALNAME:Luuppi Events
TIMEZONE-ID:Europe/Helsinki
X-WR-TIMEZONE:Europe/Helsinki
BEGIN:VEVENT
UID:f52f67f8-05fe-43b1-95d5-f81f04715bdc
SEQUENCE:0
DTSTAMP:20260421T134633
DTSTART:20260302T163000
DTEND:20260302T183000
SUMMARY:Hallituksen kokous
LOCATION:Pii-Klubi (Yliopistonkatu 58B)
DESCRIPTION:Hallituksen kokouksissa Luupin hallitus keskustelee ja tekee p
 äätöksiä yhdistyksen ajankohtaisiin asioihin liittyen. Kokouksissa on 
 läsnäolo- ja puheoikeus kaikilla Luupin jäsenillä\, tervetuloa mukaan!
  Kokouksen alustava esityslista: 1. Kokouksen avaus 2. Kokouksen laillisuu
 s ja päätösvaltaisuus 3. Kokouksen esityslistan hyväksyminen 4. Opinto
 piiri 5. Toimiston juomien hinta 6. Verhokiskojen asennus 7. Pii-Klubin s
 ähkölaskusta keskustelu 8. TREYn ajankohtaiset asiat 9. Ilmoitusasiat ja
  posti 10. Tiimien kuulumiset 11. Vuosijuhlaedustus 12. Edellisten kokoust
 en pöytäkirjojen hyväksyminen 13. Seuraava kokous 14. Toimiston päivys
 tys 15. Menneet tapahtumat 16. Tulevat tapahtumat 17. Muut esille tulevat 
 asiat 18. Kokouksen päättäminen\n\nJos sinulla on lisättävää esitys
 listaan tai jotain kysyttävää\, otathan yhteyttä kokouksen puheenjohta
 jaan: Freja Tuurala Telegram: @frejaadele freja.tuurala@luuppi.fi | pj@luu
 ppi.fi
URL;VALUE=URI:https://luuppi.fi/fi/events/board-meeting-36
END:VEVENT
END:VCALENDAR