BEGIN:VCALENDAR
VERSION:2.0
PRODID:-//sebbo.net//ical-generator//EN
NAME:Luuppi Events
X-WR-CALNAME:Luuppi Events
TIMEZONE-ID:Europe/Helsinki
X-WR-TIMEZONE:Europe/Helsinki
BEGIN:VEVENT
UID:5145a281-ba82-455f-b148-5638c9984b2f
SEQUENCE:0
DTSTAMP:20260425T231719
DTSTART:20250331T170000
DTEND:20250331T190000
SUMMARY:Hallituksen kokous
LOCATION:Linna K108
DESCRIPTION:Hallituksen kokouksissa Luupin hallitus keskustelee ja tekee p
 äätöksiä yhdistyksen ajankohtaisiin asioihin liittyen. Kokouksissa on 
 läsnäolo- ja puheoikeus kaikilla Luupin jäsenillä\, tervetuloa mukaan!
  Aikaisempien kokousten pöytäkirjat pääset lukemaan  https://drive.goo
 gle.com/drive/u/1/folders/1dUgNBx1V60X5OhGW63I3LwAwhGIn2wty . Kokouksen es
 ityslista: Kokouksen avaus Kokouksen laillisuus ja päätösvaltaisuus Kok
 ouksen esityslistan hyväksyminen MobilePay Päivystystuntien vähentämin
 en Pii-Klubilla Hallituksen jäsenen ero Haalarimerkkikisan merkit Wappubi
 ngomerkkien tilaus TREYn ajankohtaiset asiat Ilmoitusasiat ja postit Tiimi
 en kuulumiset Edellisten kokousten pöytäkirjojen hyväksyminen Seuraava 
 kokous Toimiston päivystys Menneet tapahtumat Tulevat tapahtumat Muut esi
 lle tulevat asiat Kokouksen päättäminen Jos sinulla on lisättävää e
 sityslistaan tai jotain kysyttävää\, otathan yhteyttä kokouksen puheen
 johtajaan: Matias Selin\nTelegram: @matskuman5\nmatias.selin@luuppi.fi | p
 j@luuppi.fi
URL;VALUE=URI:https://luuppi.fi/fi/events/board-meeting-20
END:VEVENT
END:VCALENDAR