BEGIN:VCALENDAR
VERSION:2.0
PRODID:-//sebbo.net//ical-generator//EN
NAME:Luuppi Events
X-WR-CALNAME:Luuppi Events
TIMEZONE-ID:Europe/Helsinki
X-WR-TIMEZONE:Europe/Helsinki
BEGIN:VEVENT
UID:f0a3f312-7dfe-4837-9e96-ce08c670bb79
SEQUENCE:0
DTSTAMP:20260422T084720
DTSTART:20250122T000000
DTEND:20250202T235900
SUMMARY:ATK-YTP toimikuntahaku
LOCATION:Luuppi
DESCRIPTION:Haku ATK-YTP toimikuntaan  alkaa 22.01. ja kestää 02.02. klo
  23.59 asti.    Mikä ihmeen ATK-YTP? ATK-YTP eli automaattisen tietojenk
 äsittelytieteiden yhteistoimintapäivät on jokavuotinen tietojenkäsitte
 lytieteiden opiskelijoille suunnattu TiTOLin alainen tapahtuma\, jossa on 
 erinomainen mahdollisuus päästä tutustumaan muiden kaupunkien tietojenk
 äsittelytieteiden opiskelijoihin. Tapahtuma tuo mukanaan yritysten pitäm
 iä seminaareja\, seikkailuja kohdekaupungin siimeksessä ja hauskanpitoa 
 senkin edestä! Tänä vuonna ATK-YTP järjestetään syksyllä Tampereell
 a ja sitä varten etsimme toimikuntaa suunnittelemaan tapahtumaa. Suunnitt
 elu alkaa heti\, kun toimikunta on valittu. Toimikuntalaiselta vaaditaan a
 ktiivisuutta sekä kykyä suunnitella ja toteuttaa ATK-YTP muun toimikunna
 n kanssa. Toimikunnan työtehtäviin kuuluu muun muassa tilojen varausta\,
  ohjelman ja puhujien hankintaa luennoille sekä muiden järjestelyjen hoi
 tamista.  Miksi toimikunta?  ATK-YTP on useamman sadan hengen tapahtuma\, 
 jonka tekeminen ei onnistu yksin. Toimikuntaan tarvitaan toimijoita\, joil
 la on taitoja eri osa-alueilta ja intoa ideoida. Voit olla esimerkiksi fuk
 si tai vanhempi opiskelija pääaineesta riippumatta\, jolta löytyy palav
 a halu tehdä tämän vuoden ATK-YTP:stä ikimuistoinen. Haemme ihmisiä\,
  joita esimerkiksi kiinnostaa nettisivujen tekeminen\, tiedotus\, yritykse
 t ja sponsoritoiminta tai ylipäätään tapahtuman järjestäminen. Toimi
 kunnan lisäksi syksyllä järjestetään erillinen nakkihaku\, jossa rekr
 ytään useampi apukäsi auttamaan konkreettisissa järjestelyissä. Täst
 ä asiasta ilmoitetaan lähempänä ajankohtaa.   Siistiä\, miten haen?  
 Lähetä hakemus formsin kautta. Linkki formsiin:  https://forms.gle/5aq9H
 4zQmtj4Ffqq8 . Voit lisäksi jättää avoimen hakemuksen\, jossa kerrot e
 nemmän itsestäsi. Aikaa lähettää hakemuksia 02.02. klo 23.59 asti.  H
 akemukset käsittelee ATK-YTP pääjärjestäjä\, joka tekee ehdotuksen L
 uupin hallitukselle ehdokkaista. Toimikunta päätetään hallituksen koko
 uksessa. Kerro hakemuksessa kuka olet\, onko sinulla kokemusta tapahtumien
  järjestämisestä\, mitkä osa-alueet kiinnostaa eniten\, onko sinulla m
 uita aikaa vieviä vastuita sekä lisäksi muita tärkeitä asioita\, jotk
 a ovat hyödyllistä tietää.   Jos jotain kysyttävää herää hakupros
 essista\, voit olla yhteydessä joko sähköpostilla (atkytp@luuppi.fi) ta
 i Telegrammissa (@EeeeVeeE).   Terveisin\,  ATK-YTP -vastaava Eve Rosenber
 g-Kuutti 
URL;VALUE=URI:https://luuppi.fi/fi/events/atk-ytp-comittee
END:VEVENT
END:VCALENDAR