BEGIN:VCALENDAR
VERSION:2.0
PRODID:-//sebbo.net//ical-generator//EN
NAME:Luuppi Events
X-WR-CALNAME:Luuppi Events
TIMEZONE-ID:Europe/Helsinki
X-WR-TIMEZONE:Europe/Helsinki
BEGIN:VEVENT
UID:b77ea46b-e52d-4258-a5b8-e96cc234fb8c
SEQUENCE:0
DTSTAMP:20260421T211103
DTSTART:20260422T143000
DTEND:20260422T153000
SUMMARY:MTT & TIE coffee
LOCATION:Tietotalo TC428
DESCRIPTION:This event is mainly organized in Finnish.  MTT-TIE student-st
 aff coffee is a meeting place for mathematics\, statistics and computer sc
 iences students\, teachers and admin staff.  Discussion topics: Current to
 pics Results of the study survey
URL;VALUE=URI:https://luuppi.fi/en/events/mtt-and-tie-coffees
END:VEVENT
END:VCALENDAR