BEGIN:VCALENDAR
VERSION:2.0
PRODID:-//sebbo.net//ical-generator//EN
NAME:Luuppi Events
X-WR-CALNAME:Luuppi Events
TIMEZONE-ID:Europe/Helsinki
X-WR-TIMEZONE:Europe/Helsinki
BEGIN:VEVENT
UID:f36b570e-3903-429c-b5cf-cadb774c1afa
SEQUENCE:0
DTSTAMP:20260420T142618
DTSTART:20250305T170000
DTEND:20250305T190000
SUMMARY:Board meeting
LOCATION:Linna K110
DESCRIPTION:The board meeting will be held in Finnish.  More info about th
 e meeting is available on the Finnish version of the event.
URL;VALUE=URI:https://luuppi.fi/en/events/board-meeting-7
END:VEVENT
END:VCALENDAR