BEGIN:VCALENDAR
VERSION:2.0
PRODID:-//sebbo.net//ical-generator//EN
NAME:Luuppi Events
X-WR-CALNAME:Luuppi Events
TIMEZONE-ID:Europe/Helsinki
X-WR-TIMEZONE:Europe/Helsinki
BEGIN:VEVENT
UID:6b7fb3d3-b6a7-4fb4-ac1f-de9073fd6558
SEQUENCE:0
DTSTAMP:20260421T135440
DTSTART:20260302T163000
DTEND:20260302T183000
SUMMARY:Board Meeting
LOCATION:Pii-Klubi (Yliopistonkatu 58B)
DESCRIPTION:The board meeting will be held in Finnish.  More info about th
 e meeting is available on the Finnish version of the event.
URL;VALUE=URI:https://luuppi.fi/en/events/board-meeting-36
END:VEVENT
END:VCALENDAR