BEGIN:VCALENDAR
VERSION:2.0
PRODID:-//sebbo.net//ical-generator//EN
NAME:Luuppi Events
X-WR-CALNAME:Luuppi Events
TIMEZONE-ID:Europe/Helsinki
X-WR-TIMEZONE:Europe/Helsinki
BEGIN:VEVENT
UID:4e769f8b-73d5-4f99-9668-757bfe971dae
SEQUENCE:0
DTSTAMP:20260425T214812
DTSTART:20250331T170000
DTEND:20250331T190000
SUMMARY:Board meeting
LOCATION:Linna K108
DESCRIPTION:The board meeting will be held in Finnish.  More info about th
 e meeting is available on the Finnish version of the event.
URL;VALUE=URI:https://luuppi.fi/en/events/board-meeting-20
END:VEVENT
END:VCALENDAR