BEGIN:VCALENDAR
VERSION:2.0
PRODID:-//sebbo.net//ical-generator//EN
NAME:Luuppi Events
X-WR-CALNAME:Luuppi Events
TIMEZONE-ID:Europe/Helsinki
X-WR-TIMEZONE:Europe/Helsinki
BEGIN:VEVENT
UID:a5806fdd-3a80-4bbc-87bd-e8adf85dcb0a
SEQUENCE:0
DTSTAMP:20260422T070249
DTSTART:20250122T000000
DTEND:20250202T235900
SUMMARY:ATK-YTP comittee
LOCATION:Luuppi
DESCRIPTION:What is ATK-YTP? ATK-YTP is an annual meeting for students in 
 computer sciences. This year ATK-YTP takes place in Tampere. Previous year
 s there have been seminars by sponsored companies and fun activities.  We 
 are recruiting a comittee but unfortunately at this point the task needs f
 luent Finnish skills.  If you have any questions\, feel free to contact at
 kytp@luuppi.fi or via Telegram @EeeeVeeE  Best regards\,  ATK-YTP rep Eve 
 Rosenberg-Kuutti 
URL;VALUE=URI:https://luuppi.fi/en/events/atk-ytp-comittee
END:VEVENT
END:VCALENDAR