BEGIN:VCALENDAR
VERSION:2.0
PRODID:-//sebbo.net//ical-generator//EN
NAME:Luuppi Events
X-WR-CALNAME:Luuppi Events
TIMEZONE-ID:Europe/Helsinki
X-WR-TIMEZONE:Europe/Helsinki
BEGIN:VEVENT
UID:38eb1713-99c5-4525-b33c-9e212110b717
SEQUENCE:0
DTSTAMP:20260422T062011
DTSTART:20260507T100000
DTEND:20260508T010000
SUMMARY:Akateeminen Aurajokilaivuritutkinto AATU 2026
LOCATION:Turku
DESCRIPTION:After catching our breath post-Vappu\, it’s time to put the 
 overalls back on and head to Turku! The Academic Aura River Boat Degree (A
 ATU) is an annual national student event held in May. It gathers students 
 from all corners of Finland to celebrate the end of the academic year and 
 enjoy refreshments in the historical\, springtime scenery of the Aura Rive
 r. The goal of this "degree" is to tour the riverboat restaurants along th
 e river in a relaxed atmosphere\, enjoy the company of friends\, meet new 
 people\, and collect stamps on your degree map along the way. At the after
 party closing the night\, those who successfully complete their degree wil
 l be rewarded with the world's only river-worthy overall patch\, based on 
 their performance level. This year\, our afterparty venue is Marilyn + Veg
 as!  Practical info: In addition to the pub crawl and afterparty tickets\,
  the price includes round-trip bus transportation. Schedule: Departure: 10
 :00 AM from Tampere-talo to Turku Distribution of degree maps at 12:00 AM\
 , event starts at 02:00 PM Return: 01:00 AM (or perhaps even 02:00 AM) fro
 m Turku back to Tampere For more information about the event and the diffe
 rent degree levels\, please visit the  https://aatu.fi/   If you have any 
 questions\, contact the organizers: Aleksi Korpilahti\, TG: @kanakeitto\nJ
 ooa Tikkanen\, TG: @InterstateRoads
URL;VALUE=URI:https://luuppi.fi/en/events/aatu-26
END:VEVENT
BEGIN:VEVENT
UID:7bbf0159-46bb-4018-bec6-c06417ea3070
SEQUENCE:0
DTSTAMP:20260422T062011
DTSTART:20260423T120000
DTEND:20260423T120000
SUMMARY:Akateeminen Aurajokilaivuritutkinto AATU 2026 opens
LOCATION:Turku
DESCRIPTION:After catching our breath post-Vappu\, it’s time to put the 
 overalls back on and head to Turku! The Academic Aura River Boat Degree (A
 ATU) is an annual national student event held in May. It gathers students 
 from all corners of Finland to celebrate the end of the academic year and 
 enjoy refreshments in the historical\, springtime scenery of the Aura Rive
 r. The goal of this "degree" is to tour the riverboat restaurants along th
 e river in a relaxed atmosphere\, enjoy the company of friends\, meet new 
 people\, and collect stamps on your degree map along the way. At the after
 party closing the night\, those who successfully complete their degree wil
 l be rewarded with the world's only river-worthy overall patch\, based on 
 their performance level. This year\, our afterparty venue is Marilyn + Veg
 as!  Practical info: In addition to the pub crawl and afterparty tickets\,
  the price includes round-trip bus transportation. Schedule: Departure: 10
 :00 AM from Tampere-talo to Turku Distribution of degree maps at 12:00 AM\
 , event starts at 02:00 PM Return: 01:00 AM (or perhaps even 02:00 AM) fro
 m Turku back to Tampere For more information about the event and the diffe
 rent degree levels\, please visit the  https://aatu.fi/   If you have any 
 questions\, contact the organizers: Aleksi Korpilahti\, TG: @kanakeitto\nJ
 ooa Tikkanen\, TG: @InterstateRoads
URL;VALUE=URI:https://luuppi.fi/en/events/aatu-26
END:VEVENT
END:VCALENDAR